BEGIN:VCALENDAR
VERSION:2.0
PRODID:-//Christoph Raithel - ECPv5.9.0//NONSGML v1.0//EN
CALSCALE:GREGORIAN
METHOD:PUBLISH
X-WR-CALNAME:Christoph Raithel
X-ORIGINAL-URL:https://christoph-raithel.de
X-WR-CALDESC:Veranstaltungen für Christoph Raithel
BEGIN:VTIMEZONE
TZID:Europe/Kaliningrad
BEGIN:STANDARD
TZOFFSETFROM:+0200
TZOFFSETTO:+0200
TZNAME:EET
DTSTART:20190101T000000
END:STANDARD
END:VTIMEZONE
BEGIN:VEVENT
DTSTART;TZID=Europe/Kaliningrad:20190918T190000
DTEND;TZID=Europe/Kaliningrad:20190918T203000
DTSTAMP:20260422T004547
CREATED:20190831T093412Z
LAST-MODIFIED:20190918T154706Z
UID:1947-1568833200-1568838600@christoph-raithel.de
SUMMARY:Monatlicher Vereinsstammtisch des Museums- und Heimatvereins
DESCRIPTION:Der Museums- und Heimatverein Hilpoltstein lädt zum Vortrag mit Norbert Graf von der Naturhistorischen Gesellschaft Nürnberg ein. Im Mittelpunkt steht die Ausstellung Hilpoltsteiner Steinschätze\, die bereits seit April im Museum Schwarzes Ross in Hilpoltstein gezeigt wird. Norbert Graf ordnet die Funde der Heimatkundler Franz Kerl\, Helmut Laaber und Toni Rutschmann ein und gibt einen Überblick über die Geologie und Vorgeschichte im Altlandkreis Hilpoltstein.
URL:https://christoph-raithel.de/termine/muh-monatlicher-vereinsstammtisch/
LOCATION:Brauereigasthof Schwarzes Roß\, Hilpoltstein
END:VEVENT
END:VCALENDAR