BEGIN:VCALENDAR
VERSION:2.0
PRODID:-//Christoph Raithel - ECPv5.9.0//NONSGML v1.0//EN
CALSCALE:GREGORIAN
METHOD:PUBLISH
X-WR-CALNAME:Christoph Raithel
X-ORIGINAL-URL:https://christoph-raithel.de
X-WR-CALDESC:Veranstaltungen für Christoph Raithel
BEGIN:VTIMEZONE
TZID:Europe/Kaliningrad
BEGIN:STANDARD
TZOFFSETFROM:+0200
TZOFFSETTO:+0200
TZNAME:EET
DTSTART:20190101T000000
END:STANDARD
END:VTIMEZONE
BEGIN:VEVENT
DTSTART;TZID=Europe/Kaliningrad:20190919T150000
DTEND;TZID=Europe/Kaliningrad:20190919T160000
DTSTAMP:20260422T023907
CREATED:20190918T154819Z
LAST-MODIFIED:20190919T161315Z
UID:2069-1568905200-1568908800@christoph-raithel.de
SUMMARY:Führung durch die Musterwohnung TABEA im Rahmen der Bayerischen Demenzwoche
DESCRIPTION:Führung durch Ottilie Tubel-Wesemeyer\, Sachgebietsleiterin Seniorenamt und Soziales\, Landratsamt Roth
URL:https://christoph-raithel.de/termine/fuehrung-durch-die-musterwohnung-tabea-im-rahmen-der-bayerischen-demenzwoche/
LOCATION:Musterwohnung TABEA\, Gartenstraße 30a\, Roth\, 91154\, Deutschland
END:VEVENT
END:VCALENDAR