BEGIN:VCALENDAR
VERSION:2.0
PRODID:-//Christoph Raithel - ECPv5.9.0//NONSGML v1.0//EN
CALSCALE:GREGORIAN
METHOD:PUBLISH
X-WR-CALNAME:Christoph Raithel
X-ORIGINAL-URL:https://christoph-raithel.de
X-WR-CALDESC:Veranstaltungen für Christoph Raithel
BEGIN:VTIMEZONE
TZID:Europe/Berlin
BEGIN:DAYLIGHT
TZOFFSETFROM:+0100
TZOFFSETTO:+0200
TZNAME:CEST
DTSTART:20190331T010000
END:DAYLIGHT
BEGIN:STANDARD
TZOFFSETFROM:+0200
TZOFFSETTO:+0100
TZNAME:CET
DTSTART:20191027T010000
END:STANDARD
END:VTIMEZONE
BEGIN:VEVENT
DTSTART;TZID=Europe/Berlin:20190915T140000
DTEND;TZID=Europe/Berlin:20190915T160000
DTSTAMP:20260421T224750
CREATED:20190916T093400Z
LAST-MODIFIED:20190916T093523Z
UID:2051-1568556000-1568563200@christoph-raithel.de
SUMMARY:Führung durch die Arbeiterstadt Roth
DESCRIPTION:im Rahmen des heimatkundlichen Jahresthemas „Vom Arbeiter bis zum Zimmerer – Berufsvielfalt im Landkreis Roth“\nMarlene Lobenwein führt durch Roth\, eine der industrie- reichsten Kleinstädte Mittelfrankens\, in der viele Arbeiter lebten. Lange galt Roth als Arbeiterstadt\, im Gegensatz zu Schwabach und Hilpoltstein als Beamtenstadt. Bei der Führung geht es auch um Alltag und Leben der Arbeiter in den Rother Fabriken.
URL:https://christoph-raithel.de/termine/fuehrung-durch-die-arbeiterstadt-roth/
LOCATION:Schloss Ratibor\, Roth
END:VEVENT
END:VCALENDAR