BEGIN:VCALENDAR
VERSION:2.0
PRODID:-//Christoph Raithel - ECPv5.9.0//NONSGML v1.0//EN
CALSCALE:GREGORIAN
METHOD:PUBLISH
X-WR-CALNAME:Christoph Raithel
X-ORIGINAL-URL:https://christoph-raithel.de
X-WR-CALDESC:Veranstaltungen für Christoph Raithel
BEGIN:VTIMEZONE
TZID:Europe/Berlin
BEGIN:DAYLIGHT
TZOFFSETFROM:+0100
TZOFFSETTO:+0200
TZNAME:CEST
DTSTART:20190331T010000
END:DAYLIGHT
BEGIN:STANDARD
TZOFFSETFROM:+0200
TZOFFSETTO:+0100
TZNAME:CET
DTSTART:20191027T010000
END:STANDARD
END:VTIMEZONE
BEGIN:VEVENT
DTSTART;TZID=Europe/Berlin:20190914T133000
DTEND;TZID=Europe/Berlin:20190914T150000
DTSTAMP:20260421T193559
CREATED:20190916T092834Z
LAST-MODIFIED:20190916T092834Z
UID:2046-1568467800-1568473200@christoph-raithel.de
SUMMARY:Diözesanwallfahrt des Katholischen Deutschen Frauenbunds (KDFB) im Bistum Eichstätt
DESCRIPTION:
URL:https://christoph-raithel.de/termine/dioezesanwallfahrt-des-katholischen-deutschen-frauenbunds-kdfb-im-bistum-eichstaett/
LOCATION:Stadthalle Hilpoltstein\, Badstraße 10\, Hilpoltstein\, 91161\, Deutschland
END:VEVENT
END:VCALENDAR