BEGIN:VCALENDAR
VERSION:2.0
PRODID:-//Christoph Raithel - ECPv5.9.0//NONSGML v1.0//EN
CALSCALE:GREGORIAN
METHOD:PUBLISH
X-WR-CALNAME:Christoph Raithel
X-ORIGINAL-URL:https://christoph-raithel.de
X-WR-CALDESC:Veranstaltungen für Christoph Raithel
BEGIN:VTIMEZONE
TZID:Europe/Berlin
BEGIN:DAYLIGHT
TZOFFSETFROM:+0100
TZOFFSETTO:+0200
TZNAME:CEST
DTSTART:20190331T010000
END:DAYLIGHT
BEGIN:STANDARD
TZOFFSETFROM:+0200
TZOFFSETTO:+0100
TZNAME:CET
DTSTART:20191027T010000
END:STANDARD
END:VTIMEZONE
BEGIN:VEVENT
DTSTART;TZID=Europe/Berlin:20190914T120000
DTEND;TZID=Europe/Berlin:20190914T130000
DTSTAMP:20260421T174409
CREATED:20190916T092240Z
LAST-MODIFIED:20190916T092240Z
UID:2041-1568462400-1568466000@christoph-raithel.de
SUMMARY:Besuch des Tags der offenen Tür am Holunderhof Waldmüller
DESCRIPTION:mit Eröffnung des neuen Hofladens
URL:https://christoph-raithel.de/termine/besuch-des-tags-der-offenen-tuer-am-holunderhof-waldmueller/
LOCATION:Holunderhof Waldmüller\, Meilenbach 1\, Hilpoltstein\, 91161\, Deutschland
END:VEVENT
END:VCALENDAR