BEGIN:VCALENDAR
VERSION:2.0
PRODID:-//Christoph Raithel - ECPv5.9.0//NONSGML v1.0//EN
CALSCALE:GREGORIAN
METHOD:PUBLISH
X-WR-CALNAME:Christoph Raithel
X-ORIGINAL-URL:https://christoph-raithel.de
X-WR-CALDESC:Veranstaltungen für Christoph Raithel
BEGIN:VTIMEZONE
TZID:Europe/Berlin
BEGIN:DAYLIGHT
TZOFFSETFROM:+0100
TZOFFSETTO:+0200
TZNAME:CEST
DTSTART:20190331T010000
END:DAYLIGHT
BEGIN:STANDARD
TZOFFSETFROM:+0200
TZOFFSETTO:+0100
TZNAME:CET
DTSTART:20191027T010000
END:STANDARD
END:VTIMEZONE
BEGIN:VEVENT
DTSTART;TZID=Europe/Berlin:20190818T100000
DTEND;TZID=Europe/Berlin:20190818T120000
DTSTAMP:20260422T105452
CREATED:20190821T043357Z
LAST-MODIFIED:20190821T043357Z
UID:1926-1566122400-1566129600@christoph-raithel.de
SUMMARY:Besuch des Sommerfests der Blaskapelle Jahrsdorf
DESCRIPTION:ab 10:00 Uhr Frühschoppen\n\nca. 11:00 Uhr Stabübergabe an den neuen 1. Dirigenten Michael Meyer
URL:https://christoph-raithel.de/termine/besuch-des-sommerfests-der-blaskapelle-jahrsdorf/
LOCATION:Feuerwehrhaus Jahrsdorf\, Jahrsdorf B 7\, Hilpoltstein\, 91161\, Deutschland
END:VEVENT
END:VCALENDAR