BEGIN:VCALENDAR
VERSION:2.0
PRODID:-//Christoph Raithel - ECPv5.9.0//NONSGML v1.0//EN
CALSCALE:GREGORIAN
METHOD:PUBLISH
X-WR-CALNAME:Christoph Raithel
X-ORIGINAL-URL:https://christoph-raithel.de
X-WR-CALDESC:Veranstaltungen für Christoph Raithel
BEGIN:VTIMEZONE
TZID:Europe/Kaliningrad
BEGIN:STANDARD
TZOFFSETFROM:+0200
TZOFFSETTO:+0200
TZNAME:EET
DTSTART:20190101T000000
END:STANDARD
END:VTIMEZONE
BEGIN:VEVENT
DTSTART;TZID=Europe/Kaliningrad:20190929T150000
DTEND;TZID=Europe/Kaliningrad:20190929T163000
DTSTAMP:20260422T111456
CREATED:20190831T094748Z
LAST-MODIFIED:20190930T042021Z
UID:1962-1569769200-1569774600@christoph-raithel.de
SUMMARY:Besuch des Hilpoltsteiner Drachenfests
DESCRIPTION:
URL:https://christoph-raithel.de/termine/besuch-des-hilpoltsteiner-drachenfests/
LOCATION:Hilpoltstein
END:VEVENT
END:VCALENDAR