BEGIN:VCALENDAR
VERSION:2.0
PRODID:-//Christoph Raithel - ECPv5.9.0//NONSGML v1.0//EN
CALSCALE:GREGORIAN
METHOD:PUBLISH
X-WR-CALNAME:Christoph Raithel
X-ORIGINAL-URL:https://christoph-raithel.de
X-WR-CALDESC:Veranstaltungen für Christoph Raithel
BEGIN:VTIMEZONE
TZID:Europe/Kaliningrad
BEGIN:STANDARD
TZOFFSETFROM:+0200
TZOFFSETTO:+0200
TZNAME:EET
DTSTART:20190101T000000
END:STANDARD
END:VTIMEZONE
BEGIN:VEVENT
DTSTART;TZID=Europe/Kaliningrad:20190922T150000
DTEND;TZID=Europe/Kaliningrad:20190922T160000
DTSTAMP:20260422T093121
CREATED:20190831T093844Z
LAST-MODIFIED:20190922T192758Z
UID:1952-1569164400-1569168000@christoph-raithel.de
SUMMARY:Besuch des Aktionstag des Museums- und Heimatvereins
DESCRIPTION:Rund um die Kelten dreht sich der Aktionstag für Kinder im Museum Schwarzes Ross in Hilpoltstein. Von 14:00 bis 17:00 Uhr lädt der Museums- und Heimatverein Hilpoltstein im Rahmen der Ausstellung „Hilpoltsteiner Steinschätze“ zum Entdecken und Mitmachen ein. \nDie Museumspädagoginnen der Naturhistorischen Gesellschaft Nürnberg haben sich zusammen mit aktiven und ehemaligen Lehrkräften der Hilpoltsteiner Grundschule unterschiedliche Aktionen überlegt\, bei denen Kinder in die Zeit der Kelten eintauchen können: „Keltenschmuck“ aus Draht herstellen\, „Keltische Flöten“ binden und „Keltenplätzchen“ backen. Darüber hinaus gibt es interessantes Anschauungsmaterial zu sehen.
URL:https://christoph-raithel.de/termine/besuch-des-aktionstag-des-museums-und-heimatvereins/
LOCATION:Museum Schwarzes Ross\, Marktstraße 10\, Hilpoltstein\, 91161\, Deutschland
ATTACH;FMTTYPE=image/jpeg:https://christoph-raithel.de/wp-content/uploads/2019/08/Aktionstag_Christoph-Raithel_6130.jpg
END:VEVENT
END:VCALENDAR