BEGIN:VCALENDAR
VERSION:2.0
PRODID:-//Christoph Raithel - ECPv5.9.0//NONSGML v1.0//EN
CALSCALE:GREGORIAN
METHOD:PUBLISH
X-WR-CALNAME:Christoph Raithel
X-ORIGINAL-URL:https://christoph-raithel.de
X-WR-CALDESC:Veranstaltungen für Christoph Raithel
BEGIN:VTIMEZONE
TZID:Europe/Kaliningrad
BEGIN:STANDARD
TZOFFSETFROM:+0200
TZOFFSETTO:+0200
TZNAME:EET
DTSTART:20190101T000000
END:STANDARD
END:VTIMEZONE
BEGIN:VEVENT
DTSTART;TZID=Europe/Kaliningrad:20190922T110000
DTEND;TZID=Europe/Kaliningrad:20190922T123000
DTSTAMP:20260422T080645
CREATED:20190916T090930Z
LAST-MODIFIED:20190922T192758Z
UID:2037-1569150000-1569155400@christoph-raithel.de
SUMMARY:Ausstellungseröffnung "SpitzenART IV - Spitze und Kunst im Dialog"
DESCRIPTION:und Besuch des 8. Klöppelfests auf Burg Abenberg
URL:https://christoph-raithel.de/termine/ausstellungseroeffnung-spitzenart-iv-spitze-und-kunst-im-dialog/
LOCATION:Burg Abenberg\, Burgstraße 16\, Abenberg\, 91183\, Deutschland
END:VEVENT
END:VCALENDAR