BEGIN:VCALENDAR
VERSION:2.0
PRODID:-//Christoph Raithel - ECPv5.9.0//NONSGML v1.0//EN
CALSCALE:GREGORIAN
METHOD:PUBLISH
X-WR-CALNAME:Christoph Raithel
X-ORIGINAL-URL:https://christoph-raithel.de
X-WR-CALDESC:Veranstaltungen für Christoph Raithel
BEGIN:VTIMEZONE
TZID:Europe/Kaliningrad
BEGIN:STANDARD
TZOFFSETFROM:+0200
TZOFFSETTO:+0200
TZNAME:EET
DTSTART:20190101T000000
END:STANDARD
END:VTIMEZONE
BEGIN:VEVENT
DTSTART;TZID=Europe/Kaliningrad:20190912T190000
DTEND;TZID=Europe/Kaliningrad:20190912T210000
DTSTAMP:20260421T122822
CREATED:20190831T094531Z
LAST-MODIFIED:20200117T053011Z
UID:1944-1568314800-1568322000@christoph-raithel.de
SUMMARY:92. Sitzung des Stadtrates
DESCRIPTION:Begrüßung\nAnfragen von Bürgerinnen und Bürgern an die Verwaltung\nBericht von AA-Vorsitzenden Stadtleitbild\nBekanntgabe von in nichtöffentlicher Sitzung gefassten Beschlüssen\nVorstellung Teil-Energienutzungsplan am Nahwärmenetz der Stadt Hilpoltstein\n14. Änderung des Flächennutzungsplans „Freiflächen-Photovoltaikanlage Mörlach“ – Behandlung der eingegangenen Stellungnahmen und Feststellung\nBebauungsplan Nr. 30 „Freiflächen-Photovoltaikanlage Mörlach“ – Behandlung der Stellungnahmen und Satzungsbeschluss\nFeuerwehr – Ausschreibung eines Wechselladerfahrzeugs\n1. Vergabe Los 1 – Fahrgestell\n2. Vergabe Los 2 – Feuerwehraufbau\n3. Vergabe Los 3 – Beladung\nÄnderung der Straßenausbaubeitragssatzung\nBestellung eines Wahlleiters und eines stellvertretenden Wahlleiters für die Kommunalwahlen 2020\nMitteilungen\, Anfragen\, Verschiedenes
URL:https://christoph-raithel.de/termine/92-sitzung-des-stadtrates/
LOCATION:Sitzungssaal
CATEGORIES:Stadtrat
END:VEVENT
END:VCALENDAR